BEGIN:VCALENDAR
VERSION:2.0
PRODID:-//Ipswich City Big Band - ECPv4.9.14//NONSGML v1.0//EN
CALSCALE:GREGORIAN
METHOD:PUBLISH
X-WR-CALNAME:Ipswich City Big Band
X-ORIGINAL-URL:https://www.icbb.org.au
X-WR-CALDESC:Events for Ipswich City Big Band
BEGIN:VTIMEZONE
TZID:Australia/Brisbane
BEGIN:STANDARD
TZOFFSETFROM:+1000
TZOFFSETTO:+1000
TZNAME:AEST
DTSTART:20190101T000000
END:STANDARD
END:VTIMEZONE
BEGIN:VEVENT
DTSTART;TZID=Australia/Brisbane:20190525T160000
DTEND;TZID=Australia/Brisbane:20190525T170000
DTSTAMP:20200229T013106
CREATED:20190430T074513Z
LAST-MODIFIED:20190430T075954Z
UID:1421-1558800000-1558803600@www.icbb.org.au
SUMMARY:ICBB at Ipswich Relay for Life
DESCRIPTION:Come out and see the band at the 2019 Ipswich Relay For Life at 4pm 25/5/2019 at Bill Paterson Oval\, Ipswich. \nDonate today! Relay For Life is a community fundraising challenge raising vital funds for cancer patients. \n  \n
URL:https://www.icbb.org.au/performances/icbb-at-ipswich-relay-for-life/
LOCATION:Bill Paterson Oval\, Salisbury Rd\, Ipswich\, QLD\, 4305\, Australia
ATTACH;FMTTYPE=image/jpeg:https://www.icbb.org.au/site/wp-content/uploads/2019/04/relay-for-life-2019.jpg
END:VEVENT
END:VCALENDAR