BEGIN:VCALENDAR
VERSION:2.0
PRODID:-//Ipswich City Big Band - ECPv4.9.14//NONSGML v1.0//EN
CALSCALE:GREGORIAN
METHOD:PUBLISH
X-WR-CALNAME:Ipswich City Big Band
X-ORIGINAL-URL:https://www.icbb.org.au
X-WR-CALDESC:Events for Ipswich City Big Band
BEGIN:VTIMEZONE
TZID:Australia/Brisbane
BEGIN:STANDARD
TZOFFSETFROM:+1000
TZOFFSETTO:+1000
TZNAME:AEST
DTSTART:20190101T000000
END:STANDARD
END:VTIMEZONE
BEGIN:VEVENT
DTSTART;TZID=Australia/Brisbane:20190518T063000
DTEND;TZID=Australia/Brisbane:20190518T220000
DTSTAMP:20200229T015056
CREATED:20190430T073548Z
LAST-MODIFIED:20190430T073548Z
UID:1417-1558161000-1558216800@www.icbb.org.au
SUMMARY:ICBB at the Brisbane Big Band Festival
DESCRIPTION:Come and see the ICBB perform at the 2019 Brisbane Big Band Festival. Join us with our Patrons John Morrison & Jacki Cooper for another great weekend of beautiful big band sounds. \n  \nBrisbane Jazz Club – IMPORTANT ANNOUNCEMENT \nFrom 10th May\, 2019 for approx 6 – 8 weeks\, the Brisbane Jazz Club is undergoing some major building renovations. During this time we will be holding our shows at the Queensland Russian Community Centre – 19 Lotus Street\, Woolloongabba. \nSame lovely volunteers and staff to make your experience a happy and memorable one. \nBrisbane Big Band Festival – Our 8th Annual Brisbane Big Band Festival features 4 bands a night . \n\nThe Lateshift Big Band – 6.30pm – 7.15pm\nKate Street Mob – 7.25pm – 8.10pm\nIpswich City Big Band – 8.25pm – 9.05pm\nValtozash Big Band – 9.15pm – 10pm\n\n
URL:https://www.icbb.org.au/performances/icbb-at-the-brisbane-big-band-festival/
LOCATION:Russian Club\, 19 Lotus St\, Woolloongabba\, Brisbane\, QLD\, 4102\, Australia
ATTACH;FMTTYPE=image/jpeg:https://www.icbb.org.au/site/wp-content/uploads/2019/04/bjc-bbbf-2019.jpg
END:VEVENT
END:VCALENDAR